BEGIN:VCALENDAR
VERSION:2.0
PRODID:-//Orts- und Verkehrsverein Schönemoor - ECPv6.15.18//NONSGML v1.0//EN
CALSCALE:GREGORIAN
METHOD:PUBLISH
X-WR-CALNAME:Orts- und Verkehrsverein Schönemoor
X-ORIGINAL-URL:https://ortsverein-schoenemoor.de
X-WR-CALDESC:Veranstaltungen für Orts- und Verkehrsverein Schönemoor
REFRESH-INTERVAL;VALUE=DURATION:PT1H
X-Robots-Tag:noindex
X-PUBLISHED-TTL:PT1H
BEGIN:VTIMEZONE
TZID:Europe/Berlin
BEGIN:DAYLIGHT
TZOFFSETFROM:+0100
TZOFFSETTO:+0200
TZNAME:CEST
DTSTART:20230326T010000
END:DAYLIGHT
BEGIN:STANDARD
TZOFFSETFROM:+0200
TZOFFSETTO:+0100
TZNAME:CET
DTSTART:20231029T010000
END:STANDARD
BEGIN:DAYLIGHT
TZOFFSETFROM:+0100
TZOFFSETTO:+0200
TZNAME:CEST
DTSTART:20240331T010000
END:DAYLIGHT
BEGIN:STANDARD
TZOFFSETFROM:+0200
TZOFFSETTO:+0100
TZNAME:CET
DTSTART:20241027T010000
END:STANDARD
BEGIN:DAYLIGHT
TZOFFSETFROM:+0100
TZOFFSETTO:+0200
TZNAME:CEST
DTSTART:20250330T010000
END:DAYLIGHT
BEGIN:STANDARD
TZOFFSETFROM:+0200
TZOFFSETTO:+0100
TZNAME:CET
DTSTART:20251026T010000
END:STANDARD
END:VTIMEZONE
BEGIN:VEVENT
DTSTART;TZID=Europe/Berlin:20241222T110000
DTEND;TZID=Europe/Berlin:20241222T170000
DTSTAMP:20260422T215700
CREATED:20241124T114855Z
LAST-MODIFIED:20241124T120029Z
UID:1498-1734865200-1734886800@ortsverein-schoenemoor.de
SUMMARY:Weihnachtsfeier
DESCRIPTION:Einladung zur Weihnachtsfeier\nAm Sonntag\, den 22.12.24 um 11:00 Uhr auf dem Hof der Familie Kroog \nAuch in diesem Jahr findet wieder die Weihnachtsfeier des Ortsvereins bei Familie Kroog\, Schönemoorer Landstraße 124\, statt. In der Zeit von 12:30 bis 13:00 Uhr spielt der Musikzug der Freiwilligen Feuerwehr Ganderkesee. Kurz darauf wird sich auch der Weihnachtsmann blicken lassen! Für das leibliche Wohl wird mit Glühwein und Grillwurst gesorgt. Wenn jeder einen mitbringt\, ist keiner allein. \nAuch Nicht-Mitglieder sind willkommen! \nWir freuen uns auf Eure Teilnahme und wünschen uns eine fröhliche Feier! \nGruß aus Schönemoor\nDer Vorsitzende\nFrank Seipelt\nSchönemoor den 24.11.24
URL:https://ortsverein-schoenemoor.de/event/weihnachtsfeier-2
LOCATION:Siehe Beschreibung
CATEGORIES:Veranstaltung
ATTACH;FMTTYPE=image/jpeg:https://ortsverein-schoenemoor.de/wp-content/uploads/2022/12/xmas.jpg
END:VEVENT
END:VCALENDAR