BEGIN:VCALENDAR
VERSION:2.0
PRODID:-//Orts- und Verkehrsverein Schönemoor - ECPv6.15.18//NONSGML v1.0//EN
CALSCALE:GREGORIAN
METHOD:PUBLISH
X-ORIGINAL-URL:https://ortsverein-schoenemoor.de
X-WR-CALDESC:Veranstaltungen für Orts- und Verkehrsverein Schönemoor
REFRESH-INTERVAL;VALUE=DURATION:PT1H
X-Robots-Tag:noindex
X-PUBLISHED-TTL:PT1H
BEGIN:VTIMEZONE
TZID:Europe/Berlin
BEGIN:DAYLIGHT
TZOFFSETFROM:+0100
TZOFFSETTO:+0200
TZNAME:CEST
DTSTART:20250330T010000
END:DAYLIGHT
BEGIN:STANDARD
TZOFFSETFROM:+0200
TZOFFSETTO:+0100
TZNAME:CET
DTSTART:20251026T010000
END:STANDARD
BEGIN:DAYLIGHT
TZOFFSETFROM:+0100
TZOFFSETTO:+0200
TZNAME:CEST
DTSTART:20260329T010000
END:DAYLIGHT
BEGIN:STANDARD
TZOFFSETFROM:+0200
TZOFFSETTO:+0100
TZNAME:CET
DTSTART:20261025T010000
END:STANDARD
BEGIN:DAYLIGHT
TZOFFSETFROM:+0100
TZOFFSETTO:+0200
TZNAME:CEST
DTSTART:20270328T010000
END:DAYLIGHT
BEGIN:STANDARD
TZOFFSETFROM:+0200
TZOFFSETTO:+0100
TZNAME:CET
DTSTART:20271031T010000
END:STANDARD
END:VTIMEZONE
BEGIN:VEVENT
DTSTART;TZID=Europe/Berlin:20260312T193000
DTEND;TZID=Europe/Berlin:20260312T193000
DTSTAMP:20260420T150240
CREATED:20260303T195417Z
LAST-MODIFIED:20260303T195657Z
UID:1654-1773343800-1773343800@ortsverein-schoenemoor.de
SUMMARY:Einladung zur Jahreshauptversammlung 2026
DESCRIPTION:Einladung zur Jahreshauptversammlung 2026\nam Donnerstag\, den 12. März 2026 um 19.30 Uhr im Gasthof Menkens\nmit Bürgermeister Ralf Wessel und Sebastian Nitsch von der Polizei Delmenhorst \nTagesordnung: \n\nBegrüßung\nGedenken an unsere verstorbenen Mitglieder des letzten Jahres\nGenehmigung des Protokolls 2025. Das Protokoll liegt aus und wird auf Wunsch vorgelesen\nGrußwort des Bürgermeisters Ralf Wessel und Bericht zu aktuellen Themen aus dem Vereinsgebiet\nBericht des Vorsitzenden\nBericht der Kassenwartin\nBericht der Kassenprüfer\nAussprache zu den Berichten\nEntlastung des Vorstands\nWahl eines / einer Kasserprüfers/-in. Marco Schnarre scheidet aus\, Meike Schmidt ist noch für ein Jahr im Amt\nSebastian Nitsch von der Polizei Delmenhorst erläutert in einem Vortrag wie man sich gegen Enkeltrick\, Schockanrufe\, falsche Polizisten und Anlagebetrug schützen kann.\nVerschiedenes\n\nAnträge zur Tagesordnung sind 8 Tage vor der Versammlung beim Vorsitzenden schriftlich einzureichen. \nVorsitzender Frank Seipelt\nSchönemoor den 17.02.26
URL:https://ortsverein-schoenemoor.de/event/jahreshauptversammlung-2026
LOCATION:Gaststätte Menkens\, Schierbroker Str. 75\, Ganderkesee Hoykenkamp\, Niedersachsen\, 27777\, Germany
CATEGORIES:Veranstaltung
ATTACH;FMTTYPE=image/png:https://ortsverein-schoenemoor.de/wp-content/uploads/2023/07/logo_OVV_informiert_maennchen.png
END:VEVENT
END:VCALENDAR