BEGIN:VCALENDAR
VERSION:2.0
PRODID:-//Orts- und Verkehrsverein Schönemoor - ECPv6.15.18//NONSGML v1.0//EN
CALSCALE:GREGORIAN
METHOD:PUBLISH
X-WR-CALNAME:Orts- und Verkehrsverein Schönemoor
X-ORIGINAL-URL:https://ortsverein-schoenemoor.de
X-WR-CALDESC:Veranstaltungen für Orts- und Verkehrsverein Schönemoor
REFRESH-INTERVAL;VALUE=DURATION:PT1H
X-Robots-Tag:noindex
X-PUBLISHED-TTL:PT1H
BEGIN:VTIMEZONE
TZID:Europe/Berlin
BEGIN:DAYLIGHT
TZOFFSETFROM:+0100
TZOFFSETTO:+0200
TZNAME:CEST
DTSTART:20240331T010000
END:DAYLIGHT
BEGIN:STANDARD
TZOFFSETFROM:+0200
TZOFFSETTO:+0100
TZNAME:CET
DTSTART:20241027T010000
END:STANDARD
BEGIN:DAYLIGHT
TZOFFSETFROM:+0100
TZOFFSETTO:+0200
TZNAME:CEST
DTSTART:20250330T010000
END:DAYLIGHT
BEGIN:STANDARD
TZOFFSETFROM:+0200
TZOFFSETTO:+0100
TZNAME:CET
DTSTART:20251026T010000
END:STANDARD
BEGIN:DAYLIGHT
TZOFFSETFROM:+0100
TZOFFSETTO:+0200
TZNAME:CEST
DTSTART:20260329T010000
END:DAYLIGHT
BEGIN:STANDARD
TZOFFSETFROM:+0200
TZOFFSETTO:+0100
TZNAME:CET
DTSTART:20261025T010000
END:STANDARD
END:VTIMEZONE
BEGIN:VEVENT
DTSTART;TZID=Europe/Berlin:20250829T180000
DTEND;TZID=Europe/Berlin:20250829T230000
DTSTAMP:20260420T105928
CREATED:20250522T165530Z
LAST-MODIFIED:20250729T070240Z
UID:1585-1756490400-1756508400@ortsverein-schoenemoor.de
SUMMARY:Grillabend auf dem Hof von Familie Kroog
DESCRIPTION:Wir laden alle Vereinsmitglieder zum Grillabend des Ortsvereins bei Familie Kroog\, Schönemoorer Landstraße 124\, ein. Wir wollen uns um 18:00 Uhr treffen und in lockerer Biergartenatmosphäre einen schönen Abend verbringen. \nWer teilnehmen möchte\, meldet sich bitte bis zum 23.08.25 an:\nFrank Seipelt: 0171 2186469\nBritta Bendix-Krüger: 0162 1638813\nOder per email: info@ortsverein-schoenemoor.de \nAuch Nicht-Mitglieder sind willkommen! \nAls Kostenbeteiligung bitten wir um 10\,- EUR pro Person für Mitglieder und 15\,- EUR für Nicht-Mitglieder. \n  \nOrts- und Verkehrsverein Schönemoor e.V.\nDer Vorsitzende\nFrank Seipelt
URL:https://ortsverein-schoenemoor.de/event/grillabend-auf-dem-hof-von-familie-kroog
LOCATION:Siehe Beschreibung
CATEGORIES:Veranstaltung
ATTACH;FMTTYPE=image/png:https://ortsverein-schoenemoor.de/wp-content/uploads/2023/07/logo_OVV_informiert_maennchen.png
END:VEVENT
END:VCALENDAR