BEGIN:VCALENDAR
VERSION:2.0
PRODID:-//Orts- und Verkehrsverein Schönemoor - ECPv6.15.18//NONSGML v1.0//EN
CALSCALE:GREGORIAN
METHOD:PUBLISH
X-ORIGINAL-URL:https://ortsverein-schoenemoor.de
X-WR-CALDESC:Veranstaltungen für Orts- und Verkehrsverein Schönemoor
REFRESH-INTERVAL;VALUE=DURATION:PT1H
X-Robots-Tag:noindex
X-PUBLISHED-TTL:PT1H
BEGIN:VTIMEZONE
TZID:Europe/Berlin
BEGIN:DAYLIGHT
TZOFFSETFROM:+0100
TZOFFSETTO:+0200
TZNAME:CEST
DTSTART:20230326T010000
END:DAYLIGHT
BEGIN:STANDARD
TZOFFSETFROM:+0200
TZOFFSETTO:+0100
TZNAME:CET
DTSTART:20231029T010000
END:STANDARD
BEGIN:DAYLIGHT
TZOFFSETFROM:+0100
TZOFFSETTO:+0200
TZNAME:CEST
DTSTART:20240331T010000
END:DAYLIGHT
BEGIN:STANDARD
TZOFFSETFROM:+0200
TZOFFSETTO:+0100
TZNAME:CET
DTSTART:20241027T010000
END:STANDARD
BEGIN:DAYLIGHT
TZOFFSETFROM:+0100
TZOFFSETTO:+0200
TZNAME:CEST
DTSTART:20250330T010000
END:DAYLIGHT
BEGIN:STANDARD
TZOFFSETFROM:+0200
TZOFFSETTO:+0100
TZNAME:CET
DTSTART:20251026T010000
END:STANDARD
END:VTIMEZONE
BEGIN:VEVENT
DTSTART;TZID=Europe/Berlin:20240823T180000
DTEND;TZID=Europe/Berlin:20240823T210000
DTSTAMP:20260422T172246
CREATED:20240711T171128Z
LAST-MODIFIED:20240711T171205Z
UID:1469-1724436000-1724446800@ortsverein-schoenemoor.de
SUMMARY:Einladung zum Grillabend
DESCRIPTION:Einladung zum Grillabend bei \nFamilie Kroog\nSchönemoorer Landstraße 124 \nam Freitag 23.08.24 ab 18:00 Uhr. \n  \nWeitere Infos folgen!
URL:https://ortsverein-schoenemoor.de/event/einladung-zum-grillabend
LOCATION:Siehe Beschreibung
ATTACH;FMTTYPE=image/png:https://ortsverein-schoenemoor.de/wp-content/uploads/2023/07/logo_OVV_informiert_maennchen.png
END:VEVENT
END:VCALENDAR